BEGIN:VCALENDAR
VERSION:2.0
PRODID:-//Laconia Motorcycle Week - ECPv6.15.20//NONSGML v1.0//EN
CALSCALE:GREGORIAN
METHOD:PUBLISH
X-WR-CALNAME:Laconia Motorcycle Week
X-ORIGINAL-URL:https://laconiamcweek.com
X-WR-CALDESC:Events for Laconia Motorcycle Week
REFRESH-INTERVAL;VALUE=DURATION:PT1H
X-Robots-Tag:noindex
X-PUBLISHED-TTL:PT1H
BEGIN:VTIMEZONE
TZID:America/New_York
BEGIN:DAYLIGHT
TZOFFSETFROM:-0500
TZOFFSETTO:-0400
TZNAME:EDT
DTSTART:20250309T070000
END:DAYLIGHT
BEGIN:STANDARD
TZOFFSETFROM:-0400
TZOFFSETTO:-0500
TZNAME:EST
DTSTART:20251102T060000
END:STANDARD
BEGIN:DAYLIGHT
TZOFFSETFROM:-0500
TZOFFSETTO:-0400
TZNAME:EDT
DTSTART:20260308T070000
END:DAYLIGHT
BEGIN:STANDARD
TZOFFSETFROM:-0400
TZOFFSETTO:-0500
TZNAME:EST
DTSTART:20261101T060000
END:STANDARD
BEGIN:DAYLIGHT
TZOFFSETFROM:-0500
TZOFFSETTO:-0400
TZNAME:EDT
DTSTART:20270314T070000
END:DAYLIGHT
BEGIN:STANDARD
TZOFFSETFROM:-0400
TZOFFSETTO:-0500
TZNAME:EST
DTSTART:20271107T060000
END:STANDARD
END:VTIMEZONE
BEGIN:VEVENT
DTSTART;TZID=America/New_York:20260620T190000
DTEND;TZID=America/New_York:20260620T210000
DTSTAMP:20260424T062742
CREATED:20260320T193137Z
LAST-MODIFIED:20260320T193137Z
UID:3065-1781982000-1781989200@laconiamcweek.com
SUMMARY:Miss High Octane Saloon
DESCRIPTION:Contest at 7pm
URL:https://laconiamcweek.com/event/miss-high-octane-saloon-2/
LOCATION:High Octane Saloon\, 1072 Watson Rd\, Laconia\, NH\, 03246\, United States
END:VEVENT
END:VCALENDAR