BEGIN:VCALENDAR
VERSION:2.0
PRODID:-//Laconia Motorcycle Week - ECPv6.15.20//NONSGML v1.0//EN
CALSCALE:GREGORIAN
METHOD:PUBLISH
X-WR-CALNAME:Laconia Motorcycle Week
X-ORIGINAL-URL:https://laconiamcweek.com
X-WR-CALDESC:Events for Laconia Motorcycle Week
REFRESH-INTERVAL;VALUE=DURATION:PT1H
X-Robots-Tag:noindex
X-PUBLISHED-TTL:PT1H
BEGIN:VTIMEZONE
TZID:UTC
BEGIN:STANDARD
TZOFFSETFROM:+0000
TZOFFSETTO:+0000
TZNAME:UTC
DTSTART:20230101T000000
END:STANDARD
END:VTIMEZONE
BEGIN:VEVENT
DTSTART;TZID=UTC:20240608T080000
DTEND;TZID=UTC:20240608T170000
DTSTAMP:20260423T191035
CREATED:20240328T135730Z
LAST-MODIFIED:20240328T135730Z
UID:1225-1717833600-1717866000@laconiamcweek.com
SUMMARY:18th Annual Peter Makris Memorial Run
DESCRIPTION:The Naswa Resort\n1086 Weirs Blvd\nLaconia\, NH 03246\n\n8am-1pm.\n\nPeter Makris Memorial Run\n\nNH State Police Escorted Ride around Lake Winnipesaukee! Returning to the Naswa for lunch and entertainment all afternoon! Ride benefits the Easter Seals NH Veterans Count Program\, Laconia Fire Department’s Community Emergency Response Teams (CERT) and “Building Dreams for Marines”!\n\n \n\n 
URL:https://laconiamcweek.com/event/18th-annual-peter-makris-memorial-run/
LOCATION:NH
ATTACH;FMTTYPE=image/jpeg:https://laconiamcweek.com/wp-content/uploads/2024/03/DSC_0198.avif
END:VEVENT
END:VCALENDAR