BEGIN:VCALENDAR
VERSION:2.0
PRODID:-//Laconia Motorcycle Week - ECPv6.15.20//NONSGML v1.0//EN
CALSCALE:GREGORIAN
METHOD:PUBLISH
X-WR-CALNAME:Laconia Motorcycle Week
X-ORIGINAL-URL:https://laconiamcweek.com
X-WR-CALDESC:Events for Laconia Motorcycle Week
REFRESH-INTERVAL;VALUE=DURATION:PT1H
X-Robots-Tag:noindex
X-PUBLISHED-TTL:PT1H
BEGIN:VTIMEZONE
TZID:America/New_York
BEGIN:DAYLIGHT
TZOFFSETFROM:-0500
TZOFFSETTO:-0400
TZNAME:EDT
DTSTART:20240310T070000
END:DAYLIGHT
BEGIN:STANDARD
TZOFFSETFROM:-0400
TZOFFSETTO:-0500
TZNAME:EST
DTSTART:20241103T060000
END:STANDARD
BEGIN:DAYLIGHT
TZOFFSETFROM:-0500
TZOFFSETTO:-0400
TZNAME:EDT
DTSTART:20250309T070000
END:DAYLIGHT
BEGIN:STANDARD
TZOFFSETFROM:-0400
TZOFFSETTO:-0500
TZNAME:EST
DTSTART:20251102T060000
END:STANDARD
BEGIN:DAYLIGHT
TZOFFSETFROM:-0500
TZOFFSETTO:-0400
TZNAME:EDT
DTSTART:20260308T070000
END:DAYLIGHT
BEGIN:STANDARD
TZOFFSETFROM:-0400
TZOFFSETTO:-0500
TZNAME:EST
DTSTART:20261101T060000
END:STANDARD
END:VTIMEZONE
BEGIN:VEVENT
DTSTART;TZID=America/New_York:20250620T080000
DTEND;TZID=America/New_York:20250620T130000
DTSTAMP:20260423T153750
CREATED:20250428T153322Z
LAST-MODIFIED:20250428T153322Z
UID:2859-1750406400-1750424400@laconiamcweek.com
SUMMARY:20th Annual City of Laconia Bike Show
DESCRIPTION:20th Annual City of Laconia Bike Show: Opechee Park\, 11–1pm. Benefits City of Laconia\, 603-455-0458. Swap Meet! Opechee Park\, 8am-1pm. Benefits City of Laconia. Vendors\, call Dick 603-455-0458.
URL:https://laconiamcweek.com/event/20th-annual-city-of-laconia-bike-show/
LOCATION:NH
END:VEVENT
BEGIN:VEVENT
DTSTART;TZID=America/New_York:20250620T080000
DTEND;TZID=America/New_York:20250620T130000
DTSTAMP:20260423T153750
CREATED:20250428T153630Z
LAST-MODIFIED:20250428T153630Z
UID:2868-1750406400-1750424400@laconiamcweek.com
SUMMARY:Swap Meet
DESCRIPTION:Swap Meet: At the City of Laconia Bike Show. Opechee Park\, 8–1pm. 603-455-0458
URL:https://laconiamcweek.com/event/swap-meet/
LOCATION:NH
END:VEVENT
BEGIN:VEVENT
DTSTART;TZID=America/New_York:20250620T110000
DTEND;TZID=America/New_York:20250620T120000
DTSTAMP:20260423T153750
CREATED:20250426T123917Z
LAST-MODIFIED:20250426T123917Z
UID:2801-1750417200-1750420800@laconiamcweek.com
SUMMARY:Bike Blessing
DESCRIPTION:Bike Blessing by the Christian Motorcyclist Association at 11am at the City of Laconia Bike Show at Opechee Park. All are welcome.
URL:https://laconiamcweek.com/event/bike-blessing/
LOCATION:NH
ATTACH;FMTTYPE=image/jpeg:https://laconiamcweek.com/wp-content/uploads/2025/04/E-60.avif
END:VEVENT
BEGIN:VEVENT
DTSTART;TZID=America/New_York:20250620T110000
DTEND;TZID=America/New_York:20250620T130000
DTSTAMP:20260423T153750
CREATED:20250428T153412Z
LAST-MODIFIED:20250428T153412Z
UID:2862-1750417200-1750424400@laconiamcweek.com
SUMMARY:Motorcycle Rodeo Games and Skill Contests!
DESCRIPTION:Motorcycle Rodeo Games and Skill Contests! During the City of Laconia Bike Show at Opechee Park from 11am to 1pm. Trophies awarded for top place in each game! Call Dick for more info: 603-455-0458.
URL:https://laconiamcweek.com/event/motorcycle-rodeo-games-and-skill-contests/
LOCATION:NH
END:VEVENT
BEGIN:VEVENT
DTSTART;TZID=America/New_York:20250620T110000
DTEND;TZID=America/New_York:20250620T140000
DTSTAMP:20260423T153750
CREATED:20250428T153715Z
LAST-MODIFIED:20250428T153715Z
UID:2870-1750417200-1750428000@laconiamcweek.com
SUMMARY:Belknap County Nursing Home Welcomes Motorcycle Week!
DESCRIPTION:Belknap County Nursing Home Welcomes Motorcycle Week! Please ride by and beep and wave to the residents or stop by to meet them! They will be sitting outside watching the motorcycles ride by! 11am-2pm. SR 106\, North Main St.
URL:https://laconiamcweek.com/event/belknap-county-nursing-home-welcomes-motorcycle-week/
LOCATION:NH
END:VEVENT
BEGIN:VEVENT
DTSTART;TZID=America/New_York:20250620T170000
DTEND;TZID=America/New_York:20250620T200000
DTSTAMP:20260423T153750
CREATED:20250428T153458Z
LAST-MODIFIED:20250428T153458Z
UID:2864-1750438800-1750449600@laconiamcweek.com
SUMMARY:Hot Pepper Eating Contest
DESCRIPTION:Hot Pepper Eating Contest\, Bar Sport Olympics\, & Beer Pong Challenge at Notch Biergarten by Beans & Greens Farm from 5pm-8pm.
URL:https://laconiamcweek.com/event/hot-pepper-eating-contest/
LOCATION:NH
END:VEVENT
BEGIN:VEVENT
DTSTART;TZID=America/New_York:20250620T190000
DTEND;TZID=America/New_York:20250620T220000
DTSTAMP:20260423T153750
CREATED:20250428T153552Z
LAST-MODIFIED:20250428T153552Z
UID:2866-1750446000-1750456800@laconiamcweek.com
SUMMARY:3rd Annual Proper Baggers Performance
DESCRIPTION:3rd Annual Proper Baggers Performance Meet & Show at Laconia Harley-Davidson. Registration begins at 7PM and judging begins at 8:15pm. Prize give-away of a Stinger Trailer!
URL:https://laconiamcweek.com/event/3rd-annual-proper-baggers-performance/
LOCATION:NH
END:VEVENT
END:VCALENDAR