BEGIN:VCALENDAR
VERSION:2.0
PRODID:-//Laconia Motorcycle Week - ECPv6.15.20//NONSGML v1.0//EN
CALSCALE:GREGORIAN
METHOD:PUBLISH
X-WR-CALNAME:Laconia Motorcycle Week
X-ORIGINAL-URL:https://laconiamcweek.com
X-WR-CALDESC:Events for Laconia Motorcycle Week
REFRESH-INTERVAL;VALUE=DURATION:PT1H
X-Robots-Tag:noindex
X-PUBLISHED-TTL:PT1H
BEGIN:VTIMEZONE
TZID:America/New_York
BEGIN:DAYLIGHT
TZOFFSETFROM:-0500
TZOFFSETTO:-0400
TZNAME:EDT
DTSTART:20240310T070000
END:DAYLIGHT
BEGIN:STANDARD
TZOFFSETFROM:-0400
TZOFFSETTO:-0500
TZNAME:EST
DTSTART:20241103T060000
END:STANDARD
BEGIN:DAYLIGHT
TZOFFSETFROM:-0500
TZOFFSETTO:-0400
TZNAME:EDT
DTSTART:20250309T070000
END:DAYLIGHT
BEGIN:STANDARD
TZOFFSETFROM:-0400
TZOFFSETTO:-0500
TZNAME:EST
DTSTART:20251102T060000
END:STANDARD
BEGIN:DAYLIGHT
TZOFFSETFROM:-0500
TZOFFSETTO:-0400
TZNAME:EDT
DTSTART:20260308T070000
END:DAYLIGHT
BEGIN:STANDARD
TZOFFSETFROM:-0400
TZOFFSETTO:-0500
TZNAME:EST
DTSTART:20261101T060000
END:STANDARD
END:VTIMEZONE
BEGIN:VEVENT
DTSTART;TZID=America/New_York:20250617T090000
DTEND;TZID=America/New_York:20250617T170000
DTSTAMP:20260423T121453
CREATED:20250424T140331Z
LAST-MODIFIED:20250424T140331Z
UID:2771-1750150800-1750179600@laconiamcweek.com
SUMMARY:Ride to the Racetrack!
DESCRIPTION:Ride to the Racetrack! Help New England children in need by joining this motorcycle ride from Laconia Harley-Davidson to NH Motor Speedway for laps around the 1.6-mile full road course! Registration is $20 per rider or passenger & ALL proceeds benefit the NH Chapter of Speedway Children’s Charities\, the official charity of NHMS. Registration at 9am and Kickstands up at 10am! https://www.nhms.com/events/motorcycle-week/charity-rides/
URL:https://laconiamcweek.com/event/ride-to-the-racetrack/
LOCATION:NH
ATTACH;FMTTYPE=image/jpeg:https://laconiamcweek.com/wp-content/uploads/2025/04/E-24.avif
END:VEVENT
BEGIN:VEVENT
DTSTART;TZID=America/New_York:20250617T100000
DTEND;TZID=America/New_York:20250617T170000
DTSTAMP:20260423T121453
CREATED:20250426T144023Z
LAST-MODIFIED:20250426T144023Z
UID:2815-1750154400-1750179600@laconiamcweek.com
SUMMARY:FXR & DYNA Bike Show
DESCRIPTION:FXR & DYNA Bike Show at High Octane Saloon. Registration begins at 10am.
URL:https://laconiamcweek.com/event/fxr-dyna-bike-show/
LOCATION:NH
END:VEVENT
BEGIN:VEVENT
DTSTART;TZID=America/New_York:20250617T110000
DTEND;TZID=America/New_York:20250617T170000
DTSTAMP:20260423T121453
CREATED:20250424T140138Z
LAST-MODIFIED:20250424T140138Z
UID:2769-1750158000-1750179600@laconiamcweek.com
SUMMARY:Gypsy Tour - 70+ mile Scenic Ride to Bentley’s Saloon
DESCRIPTION:Gypsy Tour – 70+ mile Scenic Ride to Bentley’s Saloon in Arundel\, Maine. Ride is escorted by Bentley himself! Leaves from Rally Headquarters at 11am. Rain Date: Thursday. Check www.bentleyssaloon.com for updates. Party with Jasmine Cain! Jasmine performs again on Thursday!
URL:https://laconiamcweek.com/event/gypsy-tour-70-mile-scenic-ride-to-bentleys-saloon/
LOCATION:NH
ATTACH;FMTTYPE=image/jpeg:https://laconiamcweek.com/wp-content/uploads/2025/04/E-23.avif
END:VEVENT
BEGIN:VEVENT
DTSTART;TZID=America/New_York:20250617T120000
DTEND;TZID=America/New_York:20250617T170000
DTSTAMP:20260423T121453
CREATED:20250611T134717Z
LAST-MODIFIED:20250611T134717Z
UID:3062-1750161600-1750179600@laconiamcweek.com
SUMMARY:American Flag Decommissioning Ceremony
DESCRIPTION:NH Veterans Association (south gate) on Lakeside Avenue.  Flags may be dropped off ahead of time and will be honored with decommissioning.  Public is welcome!
URL:https://laconiamcweek.com/event/american-flag-decommissioning-ceremony/
LOCATION:NH
END:VEVENT
BEGIN:VEVENT
DTSTART;TZID=America/New_York:20250617T130000
DTEND;TZID=America/New_York:20250617T150000
DTSTAMP:20260423T121453
CREATED:20250424T140557Z
LAST-MODIFIED:20250424T140557Z
UID:2774-1750165200-1750172400@laconiamcweek.com
SUMMARY:Tower Street Hill Climb Expo
DESCRIPTION:Tower Street Hill Climb Expo presented by United States Classic Racing Association\, 1pm – 3pm. Watch vintage motorcycles race for time up the ‘original’ hill climb!
URL:https://laconiamcweek.com/event/tower-street-hill-climb-expo/
LOCATION:NH
ATTACH;FMTTYPE=image/jpeg:https://laconiamcweek.com/wp-content/uploads/2025/04/E-26.avif
END:VEVENT
BEGIN:VEVENT
DTSTART;TZID=America/New_York:20250617T130000
DTEND;TZID=America/New_York:20250617T150000
DTSTAMP:20260423T121453
CREATED:20250426T143827Z
LAST-MODIFIED:20250426T143827Z
UID:2813-1750165200-1750172400@laconiamcweek.com
SUMMARY:Antique Motorcycle Show
DESCRIPTION:Antique Motorcycle Show during the Tower Street Hill Climb Expo\, 1pm-3pm. Lakeside Avenue.
URL:https://laconiamcweek.com/event/antique-motorcycle-show/
LOCATION:NH
END:VEVENT
BEGIN:VEVENT
DTSTART;TZID=America/New_York:20250617T150000
DTEND;TZID=America/New_York:20250617T190000
DTSTAMP:20260423T121453
CREATED:20250428T152306Z
LAST-MODIFIED:20250428T152306Z
UID:2833-1750172400-1750186800@laconiamcweek.com
SUMMARY:All Bikes Show
DESCRIPTION:All Bikes Show at High Octane Saloon. Registration begins at 3pm.
URL:https://laconiamcweek.com/event/all-bikes-show/
LOCATION:NH
END:VEVENT
BEGIN:VEVENT
DTSTART;TZID=America/New_York:20250617T163000
DTEND;TZID=America/New_York:20250617T190000
DTSTAMP:20260423T121453
CREATED:20250424T140811Z
LAST-MODIFIED:20250424T140811Z
UID:2776-1750177800-1750186800@laconiamcweek.com
SUMMARY:M/S Mount Washington Cruise around Lake Winnipesaukee
DESCRIPTION:M/S Mount Washington Cruise around Lake Winnipesaukee. Join us for this cruise departing promptly at 4:30pm from the docks at Weirs Beach and arrives back by 7pm. Food & Drink available for purchase. Get your tickets at www.CruiseNH.com
URL:https://laconiamcweek.com/event/m-s-mount-washington-cruise-around-lake-winnipesaukee/
LOCATION:NH
ATTACH;FMTTYPE=image/jpeg:https://laconiamcweek.com/wp-content/uploads/2025/04/E-30.avif
END:VEVENT
END:VCALENDAR