BEGIN:VCALENDAR
VERSION:2.0
PRODID:-//Laconia Motorcycle Week - ECPv6.15.20//NONSGML v1.0//EN
CALSCALE:GREGORIAN
METHOD:PUBLISH
X-WR-CALNAME:Laconia Motorcycle Week
X-ORIGINAL-URL:https://laconiamcweek.com
X-WR-CALDESC:Events for Laconia Motorcycle Week
REFRESH-INTERVAL;VALUE=DURATION:PT1H
X-Robots-Tag:noindex
X-PUBLISHED-TTL:PT1H
BEGIN:VTIMEZONE
TZID:America/New_York
BEGIN:DAYLIGHT
TZOFFSETFROM:-0500
TZOFFSETTO:-0400
TZNAME:EDT
DTSTART:20240310T070000
END:DAYLIGHT
BEGIN:STANDARD
TZOFFSETFROM:-0400
TZOFFSETTO:-0500
TZNAME:EST
DTSTART:20241103T060000
END:STANDARD
BEGIN:DAYLIGHT
TZOFFSETFROM:-0500
TZOFFSETTO:-0400
TZNAME:EDT
DTSTART:20250309T070000
END:DAYLIGHT
BEGIN:STANDARD
TZOFFSETFROM:-0400
TZOFFSETTO:-0500
TZNAME:EST
DTSTART:20251102T060000
END:STANDARD
BEGIN:DAYLIGHT
TZOFFSETFROM:-0500
TZOFFSETTO:-0400
TZNAME:EDT
DTSTART:20260308T070000
END:DAYLIGHT
BEGIN:STANDARD
TZOFFSETFROM:-0400
TZOFFSETTO:-0500
TZNAME:EST
DTSTART:20261101T060000
END:STANDARD
END:VTIMEZONE
BEGIN:VEVENT
DTSTART;TZID=America/New_York:20250612T080000
DTEND;TZID=America/New_York:20250615T170000
DTSTAMP:20260423T153830
CREATED:20250428T152409Z
LAST-MODIFIED:20250428T152409Z
UID:2836-1749715200-1750006800@laconiamcweek.com
SUMMARY:WPBA Women’s Pool Tournament
DESCRIPTION:WPBA Women’s Pool Tournament. June 12th- June 15th at Winni Bar & Billiards. $30K prize pool! Championship matches on Saturday. Features the Top 16 Women Pool Players in the World!
URL:https://laconiamcweek.com/event/wpba-womens-pool-tournament/
LOCATION:NH
END:VEVENT
BEGIN:VEVENT
DTSTART;TZID=America/New_York:20250613T000000
DTEND;TZID=America/New_York:20250615T235959
DTSTAMP:20260423T153830
CREATED:20250424T135716Z
LAST-MODIFIED:20250424T135716Z
UID:2765-1749772800-1750031999@laconiamcweek.com
SUMMARY:NorthEast Motorcycle Road Racing
DESCRIPTION:NorthEast Motorcycle Road Racing at New Hampshire Motor Speedway: ASRA Team Challenge and Supermoto Practice. Mixing the speed of road racing with the aerial intensity of dirt racing\, Supermoto should provide some of the most jaw-dropping and edge-of-your-seat experiences: June 13th-15th. Visit NHMS.com for more info.
URL:https://laconiamcweek.com/event/northeast-motorcycle-road-racing/
LOCATION:NH
END:VEVENT
BEGIN:VEVENT
DTSTART;TZID=America/New_York:20250615T000000
DTEND;TZID=America/New_York:20250615T235959
DTSTAMP:20260423T153831
CREATED:20250428T152020Z
LAST-MODIFIED:20250428T152020Z
UID:2827-1749945600-1750031999@laconiamcweek.com
SUMMARY:NorthEast Motorcycle Road Racing
DESCRIPTION:NorthEast Motorcycle Road Racing at New Hampshire Motor Speedway: ASRA Team Challenge and Supermoto Practice. Mixing the speed of road racing with the aerial intensity of dirt racing\, Supermoto should provide some of the most jaw-dropping and edge-of-your-seat experiences: June 13th-15th. Visit NHMS.com for more info.
URL:https://laconiamcweek.com/event/northeast-motorcycle-road-racing-2/
LOCATION:NH
END:VEVENT
BEGIN:VEVENT
DTSTART;TZID=America/New_York:20250615T080000
DTEND;TZID=America/New_York:20250615T110000
DTSTAMP:20260423T153831
CREATED:20250605T183941Z
LAST-MODIFIED:20250605T183941Z
UID:3024-1749974400-1749985200@laconiamcweek.com
SUMMARY:Father’s Day Breakfast at the American Legion
DESCRIPTION:Sunday\, June 15th:  Father’s Day Breakfast at the American Legion\, 849 N Main St\, Laconia.  All Dads eat FREE! 8am -11am.
URL:https://laconiamcweek.com/event/fathers-day-breakfast-at-the-american-legion/
LOCATION:NH
ATTACH;FMTTYPE=image/jpeg:https://laconiamcweek.com/wp-content/uploads/2025/06/bresakfast.avif
END:VEVENT
BEGIN:VEVENT
DTSTART;TZID=America/New_York:20250615T080000
DTEND;TZID=America/New_York:20250615T170000
DTSTAMP:20260423T153831
CREATED:20250426T123619Z
LAST-MODIFIED:20250426T123619Z
UID:2799-1749974400-1750006800@laconiamcweek.com
SUMMARY:Top Cop for Kids Motorcycle Skills Challenge
DESCRIPTION:Top Cop for Kids Motorcycle Skills Challenge\, presented by Whelen\, to benefit the New Hampshire Chapter of Speedway Children’s Charities. NH Motor Speedway\, (S2 Lot).
URL:https://laconiamcweek.com/event/top-cop-for-kids-motorcycle-skills-challenge-2/
LOCATION:NH
ATTACH;FMTTYPE=image/jpeg:https://laconiamcweek.com/wp-content/uploads/2025/04/E-16.avif
END:VEVENT
BEGIN:VEVENT
DTSTART;TZID=America/New_York:20250615T090000
DTEND;TZID=America/New_York:20250615T170000
DTSTAMP:20260423T153831
CREATED:20250422T174811Z
LAST-MODIFIED:20250422T174811Z
UID:2663-1749978000-1750006800@laconiamcweek.com
SUMMARY:Laconia HD H.O.G. Ride to Bentley’s Saloon
DESCRIPTION:Laconia HD H.O.G. Ride to Bentley’s Saloon. Registration at Laconia HD at 9am\, KSU at 10am. 82-mile one-way ride with no stops. Arrives at 12pm. All riders welcome. Please drink responsibly!
URL:https://laconiamcweek.com/event/laconia-hd-h-o-g-ride-to-bentleys-saloon/
LOCATION:NH
ATTACH;FMTTYPE=image/jpeg:https://laconiamcweek.com/wp-content/uploads/2025/04/E-15.avif
END:VEVENT
BEGIN:VEVENT
DTSTART;TZID=America/New_York:20250615T120000
DTEND;TZID=America/New_York:20250615T170000
DTSTAMP:20260423T153831
CREATED:20250422T175050Z
LAST-MODIFIED:20250422T175050Z
UID:2665-1749988800-1750006800@laconiamcweek.com
SUMMARY:13th Annual Ride-In Bike Show at Bentley’s Saloon
DESCRIPTION:13th Annual Ride-In Bike Show at Bentley’s Saloon in Arundel Maine. Trophies and Cash prizes awarded! Live entertainment all day! NEW Best of Show Shovelhead! Registration is 11am to 1pm. Winners announced by 3pm. Pre-register at www.bentleyssaloon.com
URL:https://laconiamcweek.com/event/13th-annual-ride-in-bike-show-at-bentleys-saloon/
LOCATION:NH
ATTACH;FMTTYPE=image/jpeg:https://laconiamcweek.com/wp-content/uploads/2025/04/E-18.avif
END:VEVENT
END:VCALENDAR