BEGIN:VCALENDAR
VERSION:2.0
PRODID:-//Laconia Motorcycle Week - ECPv6.15.20//NONSGML v1.0//EN
CALSCALE:GREGORIAN
METHOD:PUBLISH
X-ORIGINAL-URL:https://laconiamcweek.com
X-WR-CALDESC:Events for Laconia Motorcycle Week
REFRESH-INTERVAL;VALUE=DURATION:PT1H
X-Robots-Tag:noindex
X-PUBLISHED-TTL:PT1H
BEGIN:VTIMEZONE
TZID:America/New_York
BEGIN:DAYLIGHT
TZOFFSETFROM:-0500
TZOFFSETTO:-0400
TZNAME:EDT
DTSTART:20240310T070000
END:DAYLIGHT
BEGIN:STANDARD
TZOFFSETFROM:-0400
TZOFFSETTO:-0500
TZNAME:EST
DTSTART:20241103T060000
END:STANDARD
BEGIN:DAYLIGHT
TZOFFSETFROM:-0500
TZOFFSETTO:-0400
TZNAME:EDT
DTSTART:20250309T070000
END:DAYLIGHT
BEGIN:STANDARD
TZOFFSETFROM:-0400
TZOFFSETTO:-0500
TZNAME:EST
DTSTART:20251102T060000
END:STANDARD
BEGIN:DAYLIGHT
TZOFFSETFROM:-0500
TZOFFSETTO:-0400
TZNAME:EDT
DTSTART:20260308T070000
END:DAYLIGHT
BEGIN:STANDARD
TZOFFSETFROM:-0400
TZOFFSETTO:-0500
TZNAME:EST
DTSTART:20261101T060000
END:STANDARD
END:VTIMEZONE
BEGIN:VEVENT
DTSTART;TZID=America/New_York:20250612T080000
DTEND;TZID=America/New_York:20250615T170000
DTSTAMP:20260423T185736
CREATED:20250428T152409Z
LAST-MODIFIED:20250428T152409Z
UID:2836-1749715200-1750006800@laconiamcweek.com
SUMMARY:WPBA Women’s Pool Tournament
DESCRIPTION:WPBA Women’s Pool Tournament. June 12th- June 15th at Winni Bar & Billiards. $30K prize pool! Championship matches on Saturday. Features the Top 16 Women Pool Players in the World!
URL:https://laconiamcweek.com/event/wpba-womens-pool-tournament/
LOCATION:NH
END:VEVENT
BEGIN:VEVENT
DTSTART;TZID=America/New_York:20250613T000000
DTEND;TZID=America/New_York:20250615T235959
DTSTAMP:20260423T185736
CREATED:20250424T135716Z
LAST-MODIFIED:20250424T135716Z
UID:2765-1749772800-1750031999@laconiamcweek.com
SUMMARY:NorthEast Motorcycle Road Racing
DESCRIPTION:NorthEast Motorcycle Road Racing at New Hampshire Motor Speedway: ASRA Team Challenge and Supermoto Practice. Mixing the speed of road racing with the aerial intensity of dirt racing\, Supermoto should provide some of the most jaw-dropping and edge-of-your-seat experiences: June 13th-15th. Visit NHMS.com for more info.
URL:https://laconiamcweek.com/event/northeast-motorcycle-road-racing/
LOCATION:NH
END:VEVENT
END:VCALENDAR