BEGIN:VCALENDAR
VERSION:2.0
PRODID:-//Laconia Motorcycle Week - ECPv6.15.20//NONSGML v1.0//EN
CALSCALE:GREGORIAN
METHOD:PUBLISH
X-WR-CALNAME:Laconia Motorcycle Week
X-ORIGINAL-URL:https://laconiamcweek.com
X-WR-CALDESC:Events for Laconia Motorcycle Week
REFRESH-INTERVAL;VALUE=DURATION:PT1H
X-Robots-Tag:noindex
X-PUBLISHED-TTL:PT1H
BEGIN:VTIMEZONE
TZID:America/New_York
BEGIN:DAYLIGHT
TZOFFSETFROM:-0500
TZOFFSETTO:-0400
TZNAME:EDT
DTSTART:20240310T070000
END:DAYLIGHT
BEGIN:STANDARD
TZOFFSETFROM:-0400
TZOFFSETTO:-0500
TZNAME:EST
DTSTART:20241103T060000
END:STANDARD
BEGIN:DAYLIGHT
TZOFFSETFROM:-0500
TZOFFSETTO:-0400
TZNAME:EDT
DTSTART:20250309T070000
END:DAYLIGHT
BEGIN:STANDARD
TZOFFSETFROM:-0400
TZOFFSETTO:-0500
TZNAME:EST
DTSTART:20251102T060000
END:STANDARD
BEGIN:DAYLIGHT
TZOFFSETFROM:-0500
TZOFFSETTO:-0400
TZNAME:EDT
DTSTART:20260308T070000
END:DAYLIGHT
BEGIN:STANDARD
TZOFFSETFROM:-0400
TZOFFSETTO:-0500
TZNAME:EST
DTSTART:20261101T060000
END:STANDARD
END:VTIMEZONE
BEGIN:VEVENT
DTSTART;TZID=America/New_York:20250616T103000
DTEND;TZID=America/New_York:20250616T103000
DTSTAMP:20260423T050059
CREATED:20250422T175245Z
LAST-MODIFIED:20250422T175245Z
UID:2667-1750069800-1750069800@laconiamcweek.com
SUMMARY:Mae-West Memorial ‘for the love of pets’ Ride
DESCRIPTION:Mae-West Memorial ‘for the love of pets’ Ride: Leaves Rally Headquarters at 10:30am for a ride through local scenic towns to Notch Biergarten by Beans & Greens. Cash food & bar available & entertainment. Benefits local animal support shelter. Line-ups may begin at 8:30am. Riders receive a custom t-shirt for their donation. $25/rider & $20/passenger.
URL:https://laconiamcweek.com/event/mae-west-memorial-for-the-love-of-pets-ride/
ATTACH;FMTTYPE=image/jpeg:https://laconiamcweek.com/wp-content/uploads/2025/04/E-20.avif
END:VEVENT
END:VCALENDAR